BEGIN:VCALENDAR
VERSION:2.0
PRODID:-//Fun Time Pottery - ECPv6.15.20//NONSGML v1.0//EN
CALSCALE:GREGORIAN
METHOD:PUBLISH
X-WR-CALNAME:Fun Time Pottery
X-ORIGINAL-URL:https://funtimepottery.net
X-WR-CALDESC:Events for Fun Time Pottery
REFRESH-INTERVAL;VALUE=DURATION:PT1H
X-Robots-Tag:noindex
X-PUBLISHED-TTL:PT1H
BEGIN:VTIMEZONE
TZID:UTC
BEGIN:STANDARD
TZOFFSETFROM:+0000
TZOFFSETTO:+0000
TZNAME:UTC
DTSTART:20250101T000000
END:STANDARD
END:VTIMEZONE
BEGIN:VEVENT
DTSTART;TZID=UTC:20260205T183000
DTEND;TZID=UTC:20260205T203000
DTSTAMP:20260423T183740
CREATED:20260121T202807Z
LAST-MODIFIED:20260121T202810Z
UID:1634-1770316200-1770323400@funtimepottery.net
SUMMARY:Valentine's Day Pottery Night @ The Dock
DESCRIPTION:Registration required through The Dock
URL:https://funtimepottery.net/event/valentines-day-pottery-night-the-dock/
END:VEVENT
BEGIN:VEVENT
DTSTART;TZID=UTC:20260213T100000
DTEND;TZID=UTC:20260213T113000
DTSTAMP:20260423T183740
CREATED:20260121T203828Z
LAST-MODIFIED:20260121T203831Z
UID:1638-1770976800-1770982200@funtimepottery.net
SUMMARY:Homeschool Art Class
DESCRIPTION:
URL:https://funtimepottery.net/event/homeschool-art-class/
END:VEVENT
BEGIN:VEVENT
DTSTART;TZID=UTC:20260216T130000
DTEND;TZID=UTC:20260216T170000
DTSTAMP:20260423T183740
CREATED:20260121T204137Z
LAST-MODIFIED:20260213T020504Z
UID:1644-1771246800-1771261200@funtimepottery.net
SUMMARY:OPEN FOR FAMILY DAY
DESCRIPTION:Open 1:00 – 5:00
URL:https://funtimepottery.net/event/open-for-family-day/
END:VEVENT
BEGIN:VEVENT
DTSTART;TZID=UTC:20260218T100000
DTEND;TZID=UTC:20260218T110000
DTSTAMP:20260423T183740
CREATED:20260213T015903Z
LAST-MODIFIED:20260213T020132Z
UID:1652-1771408800-1771412400@funtimepottery.net
SUMMARY:Storytime for Preschoolers
DESCRIPTION:The Artist Who painted a Blue Horse. Snack included
URL:https://funtimepottery.net/event/i-love-to-read/
END:VEVENT
BEGIN:VEVENT
DTSTART;TZID=UTC:20260220T100000
DTEND;TZID=UTC:20260220T113000
DTSTAMP:20260423T183740
CREATED:20260121T203556Z
LAST-MODIFIED:20260121T203713Z
UID:1636-1771581600-1771587000@funtimepottery.net
SUMMARY:Home School Art Class
DESCRIPTION:
URL:https://funtimepottery.net/event/home-school-art-class/
END:VEVENT
BEGIN:VEVENT
DTSTART;TZID=UTC:20260226T183000
DTEND;TZID=UTC:20260226T203000
DTSTAMP:20260423T183740
CREATED:20260121T204231Z
LAST-MODIFIED:20260121T204233Z
UID:1646-1772130600-1772137800@funtimepottery.net
SUMMARY:Bridgerton Theme Night
DESCRIPTION:
URL:https://funtimepottery.net/event/bridgerton-theme-night/
END:VEVENT
BEGIN:VEVENT
DTSTART;TZID=UTC:20260227T100000
DTEND;TZID=UTC:20260227T113000
DTSTAMP:20260423T183740
CREATED:20260121T203937Z
LAST-MODIFIED:20260121T203940Z
UID:1640-1772186400-1772191800@funtimepottery.net
SUMMARY:Homeschool Art Class
DESCRIPTION:
URL:https://funtimepottery.net/event/homeschool-art-class-2/
END:VEVENT
END:VCALENDAR