BEGIN:VCALENDAR
VERSION:2.0
PRODID:-//Fun Time Pottery - ECPv6.15.20//NONSGML v1.0//EN
CALSCALE:GREGORIAN
METHOD:PUBLISH
X-WR-CALNAME:Fun Time Pottery
X-ORIGINAL-URL:https://funtimepottery.net
X-WR-CALDESC:Events for Fun Time Pottery
REFRESH-INTERVAL;VALUE=DURATION:PT1H
X-Robots-Tag:noindex
X-PUBLISHED-TTL:PT1H
BEGIN:VTIMEZONE
TZID:UTC
BEGIN:STANDARD
TZOFFSETFROM:+0000
TZOFFSETTO:+0000
TZNAME:UTC
DTSTART:20230101T000000
END:STANDARD
END:VTIMEZONE
BEGIN:VEVENT
DTSTART;TZID=UTC:20241101T183000
DTEND;TZID=UTC:20241101T203000
DTSTAMP:20260425T035119
CREATED:20241030T141003Z
LAST-MODIFIED:20241030T141008Z
UID:1454-1730485800-1730493000@funtimepottery.net
SUMMARY:Light It Up Night
DESCRIPTION:
URL:https://funtimepottery.net/event/light-it-up-night/
END:VEVENT
BEGIN:VEVENT
DTSTART;TZID=UTC:20241105T000000
DTEND;TZID=UTC:20241105T235959
DTSTAMP:20260425T035119
CREATED:20241030T141544Z
LAST-MODIFIED:20241030T141548Z
UID:1467-1730764800-1730851199@funtimepottery.net
SUMMARY:Two for One Tuesday
DESCRIPTION:2 for 1 Studio Fees
URL:https://funtimepottery.net/event/two-for-one-tuesday/
END:VEVENT
BEGIN:VEVENT
DTSTART;TZID=UTC:20241105T153000
DTEND;TZID=UTC:20241105T170000
DTSTAMP:20260425T035119
CREATED:20241030T140659Z
LAST-MODIFIED:20241030T140705Z
UID:1444-1730820600-1730826000@funtimepottery.net
SUMMARY:After School Art - Souris
DESCRIPTION:
URL:https://funtimepottery.net/event/after-school-art-souris-7/
CATEGORIES:Souris
END:VEVENT
BEGIN:VEVENT
DTSTART;TZID=UTC:20241106T160000
DTEND;TZID=UTC:20241106T170000
DTSTAMP:20260425T035119
CREATED:20241030T140924Z
LAST-MODIFIED:20241030T140930Z
UID:1450-1730908800-1730912400@funtimepottery.net
SUMMARY:After School Art Clay Handbuild Xmas Trees
DESCRIPTION:
URL:https://funtimepottery.net/event/after-school-art-clay-handbuild-xmas-trees/
END:VEVENT
BEGIN:VEVENT
DTSTART;TZID=UTC:20241108T180000
DTEND;TZID=UTC:20241108T193000
DTSTAMP:20260425T035119
CREATED:20241030T141102Z
LAST-MODIFIED:20241030T141109Z
UID:1456-1731088800-1731094200@funtimepottery.net
SUMMARY:Glass Fusion Night
DESCRIPTION:
URL:https://funtimepottery.net/event/glass-fusion-night/
END:VEVENT
BEGIN:VEVENT
DTSTART;TZID=UTC:20241111T130000
DTEND;TZID=UTC:20241111T170000
DTSTAMP:20260425T035119
CREATED:20241030T141446Z
LAST-MODIFIED:20241030T141452Z
UID:1465-1731330000-1731344400@funtimepottery.net
SUMMARY:Open 1-5
DESCRIPTION:
URL:https://funtimepottery.net/event/open-1-5/
END:VEVENT
BEGIN:VEVENT
DTSTART;TZID=UTC:20241112T153000
DTEND;TZID=UTC:20241112T170000
DTSTAMP:20260425T035119
CREATED:20241030T140728Z
LAST-MODIFIED:20241030T140732Z
UID:1446-1731425400-1731430800@funtimepottery.net
SUMMARY:After School Art - Souris
DESCRIPTION:
URL:https://funtimepottery.net/event/after-school-art-souris-8/
CATEGORIES:Souris
END:VEVENT
BEGIN:VEVENT
DTSTART;TZID=UTC:20241113T103000
DTEND;TZID=UTC:20241113T113000
DTSTAMP:20260425T035119
CREATED:20241030T141345Z
LAST-MODIFIED:20241030T141351Z
UID:1463-1731493800-1731497400@funtimepottery.net
SUMMARY:Story Time
DESCRIPTION:
URL:https://funtimepottery.net/event/story-time-3/
END:VEVENT
BEGIN:VEVENT
DTSTART;TZID=UTC:20241115T090000
DTEND;TZID=UTC:20241115T120000
DTSTAMP:20260425T035119
CREATED:20241030T141257Z
LAST-MODIFIED:20241030T141301Z
UID:1461-1731661200-1731672000@funtimepottery.net
SUMMARY:Schools Out Fun
DESCRIPTION:
URL:https://funtimepottery.net/event/schools-out-fun-2/
END:VEVENT
BEGIN:VEVENT
DTSTART;TZID=UTC:20241115T183000
DTEND;TZID=UTC:20241115T203000
DTSTAMP:20260425T035119
CREATED:20241016T101645Z
LAST-MODIFIED:20241016T101649Z
UID:1442-1731695400-1731702600@funtimepottery.net
SUMMARY:Adult Clay Handbuilding Snowman Hat Class
DESCRIPTION:
URL:https://funtimepottery.net/event/adult-clay-handbuilding-snowman-hat-class/
END:VEVENT
BEGIN:VEVENT
DTSTART;TZID=UTC:20241116T000000
DTEND;TZID=UTC:20241116T235959
DTSTAMP:20260425T035119
CREATED:20241030T141150Z
LAST-MODIFIED:20241101T195046Z
UID:1458-1731715200-1731801599@funtimepottery.net
SUMMARY:Fun Times 15th Birthday Party
DESCRIPTION:CakeSnacksPrizesDiscounts
URL:https://funtimepottery.net/event/fun-times-16th-birthday-party/
END:VEVENT
BEGIN:VEVENT
DTSTART;TZID=UTC:20241119T153000
DTEND;TZID=UTC:20241119T170000
DTSTAMP:20260425T035119
CREATED:20241030T140753Z
LAST-MODIFIED:20241030T140756Z
UID:1448-1732030200-1732035600@funtimepottery.net
SUMMARY:After School Art - Souris
DESCRIPTION:
URL:https://funtimepottery.net/event/after-school-art-souris-9/
CATEGORIES:Souris
END:VEVENT
BEGIN:VEVENT
DTSTART;TZID=UTC:20241126T153000
DTEND;TZID=UTC:20241126T170000
DTSTAMP:20260425T035119
CREATED:20241030T140823Z
LAST-MODIFIED:20241030T140830Z
UID:1451-1732635000-1732640400@funtimepottery.net
SUMMARY:After School Art - Souris
DESCRIPTION:
URL:https://funtimepottery.net/event/after-school-art-souris-10/
CATEGORIES:Souris
END:VEVENT
END:VCALENDAR