BEGIN:VCALENDAR
VERSION:2.0
PRODID:-//Fun Time Pottery - ECPv6.15.20//NONSGML v1.0//EN
CALSCALE:GREGORIAN
METHOD:PUBLISH
X-WR-CALNAME:Fun Time Pottery
X-ORIGINAL-URL:https://funtimepottery.net
X-WR-CALDESC:Events for Fun Time Pottery
REFRESH-INTERVAL;VALUE=DURATION:PT1H
X-Robots-Tag:noindex
X-PUBLISHED-TTL:PT1H
BEGIN:VTIMEZONE
TZID:UTC
BEGIN:STANDARD
TZOFFSETFROM:+0000
TZOFFSETTO:+0000
TZNAME:UTC
DTSTART:20230101T000000
END:STANDARD
END:VTIMEZONE
BEGIN:VEVENT
DTSTART;TZID=UTC:20240503T180000
DTEND;TZID=UTC:20240503T200000
DTSTAMP:20260425T150750
CREATED:20240501T153926Z
LAST-MODIFIED:20240501T153935Z
UID:1297-1714759200-1714766400@funtimepottery.net
SUMMARY:Spring Wave Fused Glass Class (Brandon)
DESCRIPTION:RSVP with a deposit to join the fun!
URL:https://funtimepottery.net/event/spring-wave-fused-glass-class-brandon/
LOCATION:Brandon – Fun Time Pottery\, 535 34th Street\, Brandon\, Canada
ATTACH;FMTTYPE=image/jpeg:https://funtimepottery.net/wp-content/uploads/2022/09/pexels-artem-podrez-6941461-scaled.jpg
END:VEVENT
BEGIN:VEVENT
DTSTART;TZID=UTC:20240504T000000
DTEND;TZID=UTC:20240504T235959
DTSTAMP:20260425T150750
CREATED:20240501T153727Z
LAST-MODIFIED:20240501T154520Z
UID:1292-1714780800-1714867199@funtimepottery.net
SUMMARY:Star Wars Pottery - 1/2 price studio fee
DESCRIPTION:May the 4th be with you!
URL:https://funtimepottery.net/event/star-wars-pottery-1-2-price-studio-fee/
ATTACH;FMTTYPE=image/jpeg:https://funtimepottery.net/wp-content/uploads/2024/04/437370610_7384916938242688_2008010588150548993_n.jpg
END:VEVENT
BEGIN:VEVENT
DTSTART;TZID=UTC:20240507T153000
DTEND;TZID=UTC:20240507T170000
DTSTAMP:20260425T150750
CREATED:20240501T152812Z
LAST-MODIFIED:20240501T152817Z
UID:1278-1715095800-1715101200@funtimepottery.net
SUMMARY:Souris After School Fun May 7
DESCRIPTION:Fun with different mediums (clay\, ceramic\, canvas\, and glass).
URL:https://funtimepottery.net/event/souris-after-school-fun-may-7/
LOCATION:Souris – Fun Time Pottery\, 4 Cresent Ave E\, Souris\, Manitoba\, Canada
CATEGORIES:Souris
ATTACH;FMTTYPE=image/png:https://funtimepottery.net/wp-content/uploads/2024/03/afterschool-souris.png
END:VEVENT
BEGIN:VEVENT
DTSTART;TZID=UTC:20240510T183000
DTEND;TZID=UTC:20240510T203000
DTSTAMP:20260425T150750
CREATED:20240501T153219Z
LAST-MODIFIED:20240501T154724Z
UID:1286-1715365800-1715373000@funtimepottery.net
SUMMARY:Taylor Swift The Eras Tour (Souris)
DESCRIPTION:Join us while we celebrate The Eras Tour with themed pottery\, a movie\, prizes and more!
URL:https://funtimepottery.net/event/taylor-swift-the-eras-tour-souris/
LOCATION:Souris – Fun Time Pottery\, 4 Cresent Ave E\, Souris\, Manitoba\, Canada
CATEGORIES:Souris
ATTACH;FMTTYPE=image/jpeg:https://funtimepottery.net/wp-content/uploads/2024/05/437334013_1266805907630858_2245892717475643507_n.jpg
END:VEVENT
BEGIN:VEVENT
DTSTART;TZID=UTC:20240512T130000
DTEND;TZID=UTC:20240512T170000
DTSTAMP:20260425T150750
CREATED:20240501T154924Z
LAST-MODIFIED:20240501T154927Z
UID:1305-1715518800-1715533200@funtimepottery.net
SUMMARY:Celebrating Moms - Free Studio Fee
DESCRIPTION:
URL:https://funtimepottery.net/event/celebrating-moms-free-studio-fee/
LOCATION:Brandon – Fun Time Pottery\, 535 34th Street\, Brandon\, Canada
END:VEVENT
BEGIN:VEVENT
DTSTART;TZID=UTC:20240514T153000
DTEND;TZID=UTC:20240514T170000
DTSTAMP:20260425T150750
CREATED:20240501T152850Z
LAST-MODIFIED:20240501T152853Z
UID:1280-1715700600-1715706000@funtimepottery.net
SUMMARY:Souris After School Fun May 14
DESCRIPTION:Fun with different mediums (clay\, ceramic\, canvas\, and glass).
URL:https://funtimepottery.net/event/souris-after-school-fun-may-14/
LOCATION:Souris – Fun Time Pottery\, 4 Cresent Ave E\, Souris\, Manitoba\, Canada
CATEGORIES:Souris
ATTACH;FMTTYPE=image/png:https://funtimepottery.net/wp-content/uploads/2024/03/afterschool-souris.png
END:VEVENT
BEGIN:VEVENT
DTSTART;TZID=UTC:20240515T183000
DTEND;TZID=UTC:20240515T200000
DTSTAMP:20260425T150750
CREATED:20240501T154105Z
LAST-MODIFIED:20240501T154109Z
UID:1300-1715797800-1715803200@funtimepottery.net
SUMMARY:Adult & Teen Clay Fairy House Class
DESCRIPTION:RSVP with a deposit to join the fun!
URL:https://funtimepottery.net/event/adult-teen-clay-fairy-house-class/
LOCATION:Brandon – Fun Time Pottery\, 535 34th Street\, Brandon\, Canada
ATTACH;FMTTYPE=image/jpeg:https://funtimepottery.net/wp-content/uploads/2023/04/325370599_2118805558320415_1187967765081061933_n.jpg
END:VEVENT
BEGIN:VEVENT
DTSTART;TZID=UTC:20240520T130000
DTEND;TZID=UTC:20240520T170000
DTSTAMP:20260425T150750
CREATED:20240501T154213Z
LAST-MODIFIED:20240501T154218Z
UID:1302-1716210000-1716224400@funtimepottery.net
SUMMARY:OPEN 1-5 PM (Brandon)
DESCRIPTION:
URL:https://funtimepottery.net/event/open-1-5-pm-brandon/
LOCATION:Brandon – Fun Time Pottery\, 535 34th Street\, Brandon\, Canada
END:VEVENT
BEGIN:VEVENT
DTSTART;TZID=UTC:20240521T153000
DTEND;TZID=UTC:20240521T170000
DTSTAMP:20260425T150750
CREATED:20240501T152935Z
LAST-MODIFIED:20240501T152940Z
UID:1282-1716305400-1716310800@funtimepottery.net
SUMMARY:Souris After School Fun May 21
DESCRIPTION:Fun with different mediums (clay\, ceramic\, canvas\, and glass).
URL:https://funtimepottery.net/event/souris-after-school-fun-may-21/
LOCATION:Souris – Fun Time Pottery\, 4 Cresent Ave E\, Souris\, Manitoba\, Canada
CATEGORIES:Souris
ATTACH;FMTTYPE=image/png:https://funtimepottery.net/wp-content/uploads/2024/03/afterschool-souris.png
END:VEVENT
BEGIN:VEVENT
DTSTART;TZID=UTC:20240522T183000
DTEND;TZID=UTC:20240522T213000
DTSTAMP:20260425T150750
CREATED:20240506T124734Z
LAST-MODIFIED:20240506T124739Z
UID:1307-1716402600-1716413400@funtimepottery.net
SUMMARY:Macrame and Planter Class (Souris)
DESCRIPTION:
URL:https://funtimepottery.net/event/macrame-and-planter-class-souris/
LOCATION:Souris – Fun Time Pottery\, 4 Cresent Ave E\, Souris\, Manitoba\, Canada
CATEGORIES:Souris
ATTACH;FMTTYPE=image/jpeg:https://funtimepottery.net/wp-content/uploads/2024/05/ab426d21490035a7faf681d2fd506f3b.jpg
END:VEVENT
BEGIN:VEVENT
DTSTART;TZID=UTC:20240524T183000
DTEND;TZID=UTC:20240524T200000
DTSTAMP:20260425T150750
CREATED:20240501T153341Z
LAST-MODIFIED:20240501T154830Z
UID:1288-1716575400-1716580800@funtimepottery.net
SUMMARY:Spring Wave Fused Glass Class (Souris)
DESCRIPTION:Join us for our Fused Glass Class in Souris!
URL:https://funtimepottery.net/event/spring-wave-fused-glass-class-souris/
LOCATION:Souris – Fun Time Pottery\, 4 Cresent Ave E\, Souris\, Manitoba\, Canada
CATEGORIES:Souris
END:VEVENT
BEGIN:VEVENT
DTSTART;TZID=UTC:20240528T153000
DTEND;TZID=UTC:20240528T170000
DTSTAMP:20260425T150750
CREATED:20240501T153015Z
LAST-MODIFIED:20240501T153018Z
UID:1284-1716910200-1716915600@funtimepottery.net
SUMMARY:Souris After School Fun May 28
DESCRIPTION:Fun with different mediums (clay\, ceramic\, canvas\, and glass).
URL:https://funtimepottery.net/event/souris-after-school-fun-may-28/
LOCATION:Souris – Fun Time Pottery\, 4 Cresent Ave E\, Souris\, Manitoba\, Canada
CATEGORIES:Souris
ATTACH;FMTTYPE=image/png:https://funtimepottery.net/wp-content/uploads/2024/03/afterschool-souris.png
END:VEVENT
BEGIN:VEVENT
DTSTART;TZID=UTC:20240529T180000
DTEND;TZID=UTC:20240529T200000
DTSTAMP:20260425T150750
CREATED:20240501T153509Z
LAST-MODIFIED:20240501T154633Z
UID:1290-1717005600-1717012800@funtimepottery.net
SUMMARY:Adult & Teen Clay Fairy House Class (Souris)
DESCRIPTION:Join us for our Hand Building Clay Fairy House Class in Souris!
URL:https://funtimepottery.net/event/adult-teen-clay-fairy-house-class-souris/
LOCATION:Souris – Fun Time Pottery\, 4 Cresent Ave E\, Souris\, Manitoba\, Canada
CATEGORIES:Souris
END:VEVENT
END:VCALENDAR