BEGIN:VCALENDAR
VERSION:2.0
PRODID:-//Fun Time Pottery - ECPv6.15.20//NONSGML v1.0//EN
CALSCALE:GREGORIAN
METHOD:PUBLISH
X-WR-CALNAME:Fun Time Pottery
X-ORIGINAL-URL:https://funtimepottery.net
X-WR-CALDESC:Events for Fun Time Pottery
REFRESH-INTERVAL;VALUE=DURATION:PT1H
X-Robots-Tag:noindex
X-PUBLISHED-TTL:PT1H
BEGIN:VTIMEZONE
TZID:UTC
BEGIN:STANDARD
TZOFFSETFROM:+0000
TZOFFSETTO:+0000
TZNAME:UTC
DTSTART:20230101T000000
END:STANDARD
END:VTIMEZONE
BEGIN:VEVENT
DTSTART;TZID=UTC:20241011T100000
DTEND;TZID=UTC:20241011T113000
DTSTAMP:20260424T125748
CREATED:20240905T130305Z
LAST-MODIFIED:20240905T130308Z
UID:1398-1728640800-1728646200@funtimepottery.net
SUMMARY:Home School Art
DESCRIPTION:
URL:https://funtimepottery.net/event/home-school-art-6/
END:VEVENT
BEGIN:VEVENT
DTSTART;TZID=UTC:20241008T153000
DTEND;TZID=UTC:20241008T170000
DTSTAMP:20260424T125748
CREATED:20240905T130738Z
LAST-MODIFIED:20240905T130740Z
UID:1414-1728401400-1728406800@funtimepottery.net
SUMMARY:After School Art - Souris
DESCRIPTION:
URL:https://funtimepottery.net/event/after-school-art-souris-4/
CATEGORIES:Souris
END:VEVENT
BEGIN:VEVENT
DTSTART;TZID=UTC:20241008T000000
DTEND;TZID=UTC:20241008T235959
DTSTAMP:20260424T125748
CREATED:20240905T130919Z
LAST-MODIFIED:20240905T130922Z
UID:1423-1728345600-1728431999@funtimepottery.net
SUMMARY:2 for 1 Studio Fees
DESCRIPTION:
URL:https://funtimepottery.net/event/2-for-1-studio-fees-2/
END:VEVENT
BEGIN:VEVENT
DTSTART;TZID=UTC:20241007T090000
DTEND;TZID=UTC:20241007T120000
DTSTAMP:20260424T125748
CREATED:20240905T131001Z
LAST-MODIFIED:20240905T131005Z
UID:1425-1728291600-1728302400@funtimepottery.net
SUMMARY:Schools Out Fun - Copy
DESCRIPTION:
URL:https://funtimepottery.net/event/schools-out-fun-copy/
END:VEVENT
BEGIN:VEVENT
DTSTART;TZID=UTC:20241004T183000
DTEND;TZID=UTC:20241004T203000
DTSTAMP:20260424T125748
CREATED:20240904T125929Z
LAST-MODIFIED:20240905T130113Z
UID:1394-1728066600-1728073800@funtimepottery.net
SUMMARY:Special Glazed Pumpkins Class
DESCRIPTION:
URL:https://funtimepottery.net/event/special-glazed-pumpkins-class/
END:VEVENT
BEGIN:VEVENT
DTSTART;TZID=UTC:20241004T100000
DTEND;TZID=UTC:20241004T113000
DTSTAMP:20260424T125748
CREATED:20240904T130002Z
LAST-MODIFIED:20240905T130244Z
UID:1396-1728036000-1728041400@funtimepottery.net
SUMMARY:Home School Art
DESCRIPTION:
URL:https://funtimepottery.net/event/home-school-art-5/
END:VEVENT
BEGIN:VEVENT
DTSTART;TZID=UTC:20241002T183000
DTEND;TZID=UTC:20241002T203000
DTSTAMP:20260424T125748
CREATED:20240902T125912Z
LAST-MODIFIED:20240905T130040Z
UID:1392-1727893800-1727901000@funtimepottery.net
SUMMARY:Special Glazed Pumpkins Class - Souris
DESCRIPTION:
URL:https://funtimepottery.net/event/special-glazed-pumpkins-class-souris/
CATEGORIES:Souris
END:VEVENT
BEGIN:VEVENT
DTSTART;TZID=UTC:20241001T153000
DTEND;TZID=UTC:20241001T170000
DTSTAMP:20260424T125748
CREATED:20240905T130713Z
LAST-MODIFIED:20240905T130716Z
UID:1412-1727796600-1727802000@funtimepottery.net
SUMMARY:After School Art - Souris
DESCRIPTION:
URL:https://funtimepottery.net/event/after-school-art-souris-3/
CATEGORIES:Souris
END:VEVENT
BEGIN:VEVENT
DTSTART;TZID=UTC:20240927T183000
DTEND;TZID=UTC:20240927T203000
DTSTAMP:20260424T125748
CREATED:20240905T125652Z
LAST-MODIFIED:20240906T144430Z
UID:1390-1727461800-1727469000@funtimepottery.net
SUMMARY:Gilmore Girls Event!
DESCRIPTION:It’s a show?! It’s a lifestyle. It’s a religion.
URL:https://funtimepottery.net/event/gilmore-girls/
END:VEVENT
BEGIN:VEVENT
DTSTART;TZID=UTC:20240924T153000
DTEND;TZID=UTC:20240924T170000
DTSTAMP:20260424T125748
CREATED:20240905T130639Z
LAST-MODIFIED:20240905T130644Z
UID:1410-1727191800-1727197200@funtimepottery.net
SUMMARY:After School Art - Souris
DESCRIPTION:
URL:https://funtimepottery.net/event/after-school-art-souris-2/
CATEGORIES:Souris
END:VEVENT
BEGIN:VEVENT
DTSTART;TZID=UTC:20240920T183000
DTEND;TZID=UTC:20240920T203000
DTSTAMP:20260424T125748
CREATED:20240905T125602Z
LAST-MODIFIED:20240905T125706Z
UID:1388-1726857000-1726864200@funtimepottery.net
SUMMARY:Adults/Teens Clay Witch House
DESCRIPTION:Clay Hand-building – Witch House for Adults and Teens
URL:https://funtimepottery.net/event/adults-teens-clay-witch-house/
END:VEVENT
BEGIN:VEVENT
DTSTART;TZID=UTC:20240918T103000
DTEND;TZID=UTC:20240918T113000
DTSTAMP:20260424T125748
CREATED:20240905T125441Z
LAST-MODIFIED:20240905T125457Z
UID:1386-1726655400-1726659000@funtimepottery.net
SUMMARY:Story Time
DESCRIPTION:
URL:https://funtimepottery.net/event/story-time/
END:VEVENT
BEGIN:VEVENT
DTSTART;TZID=UTC:20240917T153000
DTEND;TZID=UTC:20240917T170000
DTSTAMP:20260424T125748
CREATED:20240905T125345Z
LAST-MODIFIED:20240905T125350Z
UID:1384-1726587000-1726592400@funtimepottery.net
SUMMARY:After School Art - Souris
DESCRIPTION:
URL:https://funtimepottery.net/event/after-school-art-souris/
CATEGORIES:Souris
END:VEVENT
BEGIN:VEVENT
DTSTART;TZID=UTC:20240910T000000
DTEND;TZID=UTC:20240910T235959
DTSTAMP:20260424T125748
CREATED:20240905T125228Z
LAST-MODIFIED:20240905T125232Z
UID:1382-1725926400-1726012799@funtimepottery.net
SUMMARY:2 for 1 Studio Fees
DESCRIPTION:
URL:https://funtimepottery.net/event/2-for-1-studio-fees/
END:VEVENT
BEGIN:VEVENT
DTSTART;TZID=UTC:20240829T183000
DTEND;TZID=UTC:20240829T203000
DTSTAMP:20260424T125748
CREATED:20240704T174459Z
LAST-MODIFIED:20240821T171113Z
UID:1363-1724956200-1724963400@funtimepottery.net
SUMMARY:Dolly Parton Event
DESCRIPTION:
URL:https://funtimepottery.net/event/movie-anoon-copy/
END:VEVENT
BEGIN:VEVENT
DTSTART;TZID=UTC:20240814T140000
DTEND;TZID=UTC:20240814T160000
DTSTAMP:20260424T125748
CREATED:20240802T155222Z
LAST-MODIFIED:20240802T155408Z
UID:1372-1723644000-1723651200@funtimepottery.net
SUMMARY:Fun with Bubbles
DESCRIPTION:
URL:https://funtimepottery.net/event/fun-with-bubbles/
END:VEVENT
BEGIN:VEVENT
DTSTART;TZID=UTC:20240805T000000
DTEND;TZID=UTC:20240805T235959
DTSTAMP:20260424T125748
CREATED:20240802T155145Z
LAST-MODIFIED:20240802T155150Z
UID:1370-1722816000-1722902399@funtimepottery.net
SUMMARY:CLOSED
DESCRIPTION:
URL:https://funtimepottery.net/event/closed/
END:VEVENT
BEGIN:VEVENT
DTSTART;TZID=UTC:20240801T140000
DTEND;TZID=UTC:20240801T160000
DTSTAMP:20260424T125748
CREATED:20240704T174421Z
LAST-MODIFIED:20240704T174425Z
UID:1361-1722520800-1722528000@funtimepottery.net
SUMMARY:Story Time "Camp"
DESCRIPTION:Dear Zoo \n\n\n\nAges 6 and under \n\n\n\n$20
URL:https://funtimepottery.net/event/story-time-camp-3/
END:VEVENT
BEGIN:VEVENT
DTSTART;TZID=UTC:20240731T140000
DTEND;TZID=UTC:20240731T160000
DTSTAMP:20260424T125748
CREATED:20240704T174352Z
LAST-MODIFIED:20240704T174355Z
UID:1359-1722434400-1722441600@funtimepottery.net
SUMMARY:Story Time "Camp"
DESCRIPTION:Dear Zoo \n\n\n\nAges 6 and under \n\n\n\n$20
URL:https://funtimepottery.net/event/story-time-camp-2/
END:VEVENT
BEGIN:VEVENT
DTSTART;TZID=UTC:20240729T090000
DTEND;TZID=UTC:20240802T120000
DTSTAMP:20260424T125748
CREATED:20240704T173604Z
LAST-MODIFIED:20240704T173607Z
UID:1349-1722243600-1722600000@funtimepottery.net
SUMMARY:Brandon Summer Camp
DESCRIPTION:RUNS EVERY WEEK DURING SUMMER STARTING JULY 2ND\n\n\n\nWelcome to Fun Time Pottery’s Summer Camp in Brandon! 🌸 Ignite your child’s creativity with our engaging and vibrant artistic experience. Our Summer Camp is the perfect blend of artistic exploration and fun for kids in Brandon\, Manitoba. \n\n\n\n📅 Camp Dates: Every Weekday in the Summer starting July 2nd (Daily Sessions 9 am to 12 pm – Walkins Welcome after 10:30 am) \n\n\n\n💰 Cost: $155/week (5 days) or $32/day (RSVP and deposit required) \n\n\n\n🎨 What to Expect: Explore a world of colours and imagination as your child dives into the exciting realm of ceramics\, clay\, canvas painting\, and fabric mosaics. Our expert instructors will guide them through creating unique masterpieces\, fostering creativity\, and building lasting memories. \n\n\n\n🌈 Highlights: \n\n\n\n\nDaily hands-on art projects\n\n\n\nA supportive and encouraging environment for all skill levels\n\n\n\n\n🎉 Why Fun Time Pottery? Our Summer Camp is designed to provide a safe\, enjoyable\, and educational experience for kids during the school break. At Fun Time Pottery\, we believe in the power of creativity to inspire and uplift young minds. \n\n\n\n🌟 Reserve Your Spot: Spaces are limited\, so secure your child’s spot in our Summer Camp in Brandon today! Contact us at 204-728-4659 or visit our studio at 535 34th Street (Brandon\, MB) to register. \n\n\n\nMake this Summer a memorable and colourful adventure for your child at Fun Time Pottery’s Summer Camp in Brandon. Let the creativity flow! 🌈🖌️
URL:https://funtimepottery.net/event/brandon-summer-camp-3/
LOCATION:Brandon – Fun Time Pottery\, 535 34th Street\, Brandon\, Canada
ATTACH;FMTTYPE=image/png:https://funtimepottery.net/wp-content/uploads/2024/05/Summer-Camp.png
END:VEVENT
BEGIN:VEVENT
DTSTART;TZID=UTC:20240726T183000
DTEND;TZID=UTC:20240726T203000
DTSTAMP:20260424T125748
CREATED:20240704T174310Z
LAST-MODIFIED:20240704T174315Z
UID:1357-1722018600-1722025800@funtimepottery.net
SUMMARY:Harry Potter Night!
DESCRIPTION:Join us for a Movie and Painting!Happy Birthday Harry!
URL:https://funtimepottery.net/event/harry-potter-night/
END:VEVENT
BEGIN:VEVENT
DTSTART;TZID=UTC:20240722T090000
DTEND;TZID=UTC:20240726T120000
DTSTAMP:20260424T125748
CREATED:20240704T173534Z
LAST-MODIFIED:20240704T173538Z
UID:1347-1721638800-1721995200@funtimepottery.net
SUMMARY:Brandon Summer Camp
DESCRIPTION:RUNS EVERY WEEK DURING SUMMER STARTING JULY 2ND\n\n\n\nWelcome to Fun Time Pottery’s Summer Camp in Brandon! 🌸 Ignite your child’s creativity with our engaging and vibrant artistic experience. Our Summer Camp is the perfect blend of artistic exploration and fun for kids in Brandon\, Manitoba. \n\n\n\n📅 Camp Dates: Every Weekday in the Summer starting July 2nd (Daily Sessions 9 am to 12 pm – Walkins Welcome after 10:30 am) \n\n\n\n💰 Cost: $155/week (5 days) or $32/day (RSVP and deposit required) \n\n\n\n🎨 What to Expect: Explore a world of colours and imagination as your child dives into the exciting realm of ceramics\, clay\, canvas painting\, and fabric mosaics. Our expert instructors will guide them through creating unique masterpieces\, fostering creativity\, and building lasting memories. \n\n\n\n🌈 Highlights: \n\n\n\n\nDaily hands-on art projects\n\n\n\nA supportive and encouraging environment for all skill levels\n\n\n\n\n🎉 Why Fun Time Pottery? Our Summer Camp is designed to provide a safe\, enjoyable\, and educational experience for kids during the school break. At Fun Time Pottery\, we believe in the power of creativity to inspire and uplift young minds. \n\n\n\n🌟 Reserve Your Spot: Spaces are limited\, so secure your child’s spot in our Summer Camp in Brandon today! Contact us at 204-728-4659 or visit our studio at 535 34th Street (Brandon\, MB) to register. \n\n\n\nMake this Summer a memorable and colourful adventure for your child at Fun Time Pottery’s Summer Camp in Brandon. Let the creativity flow! 🌈🖌️
URL:https://funtimepottery.net/event/brandon-summer-camp-2/
LOCATION:Brandon – Fun Time Pottery\, 535 34th Street\, Brandon\, Canada
ATTACH;FMTTYPE=image/png:https://funtimepottery.net/wp-content/uploads/2024/05/Summer-Camp.png
END:VEVENT
BEGIN:VEVENT
DTSTART;TZID=UTC:20240717T140000
DTEND;TZID=UTC:20240717T160000
DTSTAMP:20260424T125748
CREATED:20240704T174149Z
LAST-MODIFIED:20240704T174154Z
UID:1355-1721224800-1721232000@funtimepottery.net
SUMMARY:Story Time "Camp"
DESCRIPTION:Forest Hide and Seek \n\n\n\nAges 6 and under \n\n\n\n$20
URL:https://funtimepottery.net/event/story-time-camp/
END:VEVENT
BEGIN:VEVENT
DTSTART;TZID=UTC:20240716T090000
DTEND;TZID=UTC:20240719T120000
DTSTAMP:20260424T125748
CREATED:20240704T173847Z
LAST-MODIFIED:20240704T173853Z
UID:1351-1721120400-1721390400@funtimepottery.net
SUMMARY:Souris Summer Camp
DESCRIPTION:Welcome to Fun Time Pottery’s Summer Camp in Souris! 🌸 Ignite your child’s creativity with our engaging and vibrant artistic experience. Our Summer Camp is the perfect blend of artistic exploration and fun for kids in Souris\, Manitoba. \n\n\n\n📅 Camp Dates: July 16th – July 19th \n\n\n\n🎨 What to Expect: Explore a world of colours and imagination as your child dives into the exciting realm of ceramics\, clay\, canvas painting\, and fabric mosaics. Our expert instructors will guide them through creating unique masterpieces\, fostering creativity\, and building lasting memories. \n\n\n\n🌈 Highlights: \n\n\n\n\nDaily hands-on art projects\n\n\n\nA supportive and encouraging environment for all skill levels\n\n\n\n\n🎉 Why Fun Time Pottery? Our Summer Camp is designed to provide a safe\, enjoyable\, and educational experience for kids during the school break. At Fun Time Pottery\, we believe in the power of creativity to inspire and uplift young minds. \n\n\n\n🌟 Reserve Your Spot: Spaces are limited\, so secure your child’s spot in our Summer Camp in Souris today! Contact us at 204-728-4659 to register. \n\n\n\nMake this Summer a memorable and colourful adventure for your child at Fun Time Pottery’s Summer Camp in Souris. Let the creativity flow! 🌈🖌️
URL:https://funtimepottery.net/event/souris-summer-camp/
ATTACH;FMTTYPE=image/png:https://funtimepottery.net/wp-content/uploads/2024/05/Summer-Camp.png
END:VEVENT
BEGIN:VEVENT
DTSTART;TZID=UTC:20240715T090000
DTEND;TZID=UTC:20240719T120000
DTSTAMP:20260424T125748
CREATED:20240704T173502Z
LAST-MODIFIED:20240704T173506Z
UID:1345-1721034000-1721390400@funtimepottery.net
SUMMARY:Brandon Summer Camp
DESCRIPTION:RUNS EVERY WEEK DURING SUMMER STARTING JULY 2ND\n\n\n\nWelcome to Fun Time Pottery’s Summer Camp in Brandon! 🌸 Ignite your child’s creativity with our engaging and vibrant artistic experience. Our Summer Camp is the perfect blend of artistic exploration and fun for kids in Brandon\, Manitoba. \n\n\n\n📅 Camp Dates: Every Weekday in the Summer starting July 2nd (Daily Sessions 9 am to 12 pm – Walkins Welcome after 10:30 am) \n\n\n\n💰 Cost: $155/week (5 days) or $32/day (RSVP and deposit required) \n\n\n\n🎨 What to Expect: Explore a world of colours and imagination as your child dives into the exciting realm of ceramics\, clay\, canvas painting\, and fabric mosaics. Our expert instructors will guide them through creating unique masterpieces\, fostering creativity\, and building lasting memories. \n\n\n\n🌈 Highlights: \n\n\n\n\nDaily hands-on art projects\n\n\n\nA supportive and encouraging environment for all skill levels\n\n\n\n\n🎉 Why Fun Time Pottery? Our Summer Camp is designed to provide a safe\, enjoyable\, and educational experience for kids during the school break. At Fun Time Pottery\, we believe in the power of creativity to inspire and uplift young minds. \n\n\n\n🌟 Reserve Your Spot: Spaces are limited\, so secure your child’s spot in our Summer Camp in Brandon today! Contact us at 204-728-4659 or visit our studio at 535 34th Street (Brandon\, MB) to register. \n\n\n\nMake this Summer a memorable and colourful adventure for your child at Fun Time Pottery’s Summer Camp in Brandon. Let the creativity flow! 🌈🖌️
URL:https://funtimepottery.net/event/brandon-summer-camp/
LOCATION:Brandon – Fun Time Pottery\, 535 34th Street\, Brandon\, Canada
ATTACH;FMTTYPE=image/png:https://funtimepottery.net/wp-content/uploads/2024/05/Summer-Camp.png
END:VEVENT
BEGIN:VEVENT
DTSTART;TZID=UTC:20240711T140000
DTEND;TZID=UTC:20240711T160000
DTSTAMP:20260424T125748
CREATED:20240704T174037Z
LAST-MODIFIED:20240704T174043Z
UID:1353-1720706400-1720713600@funtimepottery.net
SUMMARY:Movie A'Noon
DESCRIPTION:Monsters IncDrop off or Stay! \n\n\n\n$25
URL:https://funtimepottery.net/event/movie-anoon/
END:VEVENT
BEGIN:VEVENT
DTSTART;TZID=UTC:20240708T090000
DTEND;TZID=UTC:20240712T120000
DTSTAMP:20260424T125748
CREATED:20240704T173406Z
LAST-MODIFIED:20240704T173432Z
UID:1342-1720429200-1720785600@funtimepottery.net
SUMMARY:Brandon Summer Camp
DESCRIPTION:RUNS EVERY WEEK DURING SUMMER STARTING JULY 2ND\n\n\n\nWelcome to Fun Time Pottery’s Summer Camp in Brandon! 🌸 Ignite your child’s creativity with our engaging and vibrant artistic experience. Our Summer Camp is the perfect blend of artistic exploration and fun for kids in Brandon\, Manitoba. \n\n\n\n📅 Camp Dates: Every Weekday in the Summer starting July 2nd (Daily Sessions 9 am to 12 pm – Walkins Welcome after 10:30 am) \n\n\n\n💰 Cost: $155/week (5 days) or $32/day (RSVP and deposit required) \n\n\n\n🎨 What to Expect: Explore a world of colours and imagination as your child dives into the exciting realm of ceramics\, clay\, canvas painting\, and fabric mosaics. Our expert instructors will guide them through creating unique masterpieces\, fostering creativity\, and building lasting memories. \n\n\n\n🌈 Highlights: \n\n\n\n\nDaily hands-on art projects\n\n\n\nA supportive and encouraging environment for all skill levels\n\n\n\n\n🎉 Why Fun Time Pottery? Our Summer Camp is designed to provide a safe\, enjoyable\, and educational experience for kids during the school break. At Fun Time Pottery\, we believe in the power of creativity to inspire and uplift young minds. \n\n\n\n🌟 Reserve Your Spot: Spaces are limited\, so secure your child’s spot in our Summer Camp in Brandon today! Contact us at 204-728-4659 or visit our studio at 535 34th Street (Brandon\, MB) to register. \n\n\n\nMake this Summer a memorable and colourful adventure for your child at Fun Time Pottery’s Summer Camp in Brandon. Let the creativity flow! 🌈🖌️
URL:https://funtimepottery.net/event/summer-camp-2/
LOCATION:Brandon – Fun Time Pottery\, 535 34th Street\, Brandon\, Canada
ATTACH;FMTTYPE=image/png:https://funtimepottery.net/wp-content/uploads/2024/05/Summer-Camp.png
END:VEVENT
BEGIN:VEVENT
DTSTART;TZID=UTC:20240702T090000
DTEND;TZID=UTC:20240705T120000
DTSTAMP:20260424T125748
CREATED:20240516T124436Z
LAST-MODIFIED:20240516T130122Z
UID:1326-1719910800-1720180800@funtimepottery.net
SUMMARY:Summer Camp
DESCRIPTION:RUNS EVERY WEEK DURING SUMMER STARTING JULY 2ND\n\n\n\nWelcome to Fun Time Pottery’s Summer Camp in Brandon! 🌸 Ignite your child’s creativity with our engaging and vibrant artistic experience. Our Summer Camp is the perfect blend of artistic exploration and fun for kids in Brandon\, Manitoba. \n\n\n\n📅 Camp Dates: Every Weekday in the Summer starting July 2nd (Daily Sessions 9 am to 12 pm – Walkins Welcome after 10:30 am) \n\n\n\n💰 Cost: $155/week (5 days) or $32/day (RSVP and deposit required) \n\n\n\n🎨 What to Expect: Explore a world of colours and imagination as your child dives into the exciting realm of ceramics\, clay\, canvas painting\, and fabric mosaics. Our expert instructors will guide them through creating unique masterpieces\, fostering creativity\, and building lasting memories. \n\n\n\n🌈 Highlights: \n\n\n\n\nDaily hands-on art projects\n\n\n\nA supportive and encouraging environment for all skill levels\n\n\n\n\n🎉 Why Fun Time Pottery? Our Summer Camp is designed to provide a safe\, enjoyable\, and educational experience for kids during the school break. At Fun Time Pottery\, we believe in the power of creativity to inspire and uplift young minds. \n\n\n\n🌟 Reserve Your Spot: Spaces are limited\, so secure your child’s spot in our Summer Camp in Brandon today! Contact us at 204-728-4659 or visit our studio at 535 34th Street (Brandon\, MB) to register. \n\n\n\nMake this Summer a memorable and colourful adventure for your child at Fun Time Pottery’s Summer Camp in Brandon. Let the creativity flow! 🌈🖌️
URL:https://funtimepottery.net/event/summer-camp/
LOCATION:Brandon – Fun Time Pottery\, 535 34th Street\, Brandon\, Canada
ATTACH;FMTTYPE=image/png:https://funtimepottery.net/wp-content/uploads/2024/05/Summer-Camp.png
END:VEVENT
BEGIN:VEVENT
DTSTART;TZID=UTC:20240529T180000
DTEND;TZID=UTC:20240529T200000
DTSTAMP:20260424T125748
CREATED:20240501T153509Z
LAST-MODIFIED:20240501T154633Z
UID:1290-1717005600-1717012800@funtimepottery.net
SUMMARY:Adult & Teen Clay Fairy House Class (Souris)
DESCRIPTION:Join us for our Hand Building Clay Fairy House Class in Souris!
URL:https://funtimepottery.net/event/adult-teen-clay-fairy-house-class-souris/
LOCATION:Souris – Fun Time Pottery\, 4 Cresent Ave E\, Souris\, Manitoba\, Canada
CATEGORIES:Souris
END:VEVENT
BEGIN:VEVENT
DTSTART;TZID=UTC:20240528T153000
DTEND;TZID=UTC:20240528T170000
DTSTAMP:20260424T125748
CREATED:20240501T153015Z
LAST-MODIFIED:20240501T153018Z
UID:1284-1716910200-1716915600@funtimepottery.net
SUMMARY:Souris After School Fun May 28
DESCRIPTION:Fun with different mediums (clay\, ceramic\, canvas\, and glass).
URL:https://funtimepottery.net/event/souris-after-school-fun-may-28/
LOCATION:Souris – Fun Time Pottery\, 4 Cresent Ave E\, Souris\, Manitoba\, Canada
CATEGORIES:Souris
ATTACH;FMTTYPE=image/png:https://funtimepottery.net/wp-content/uploads/2024/03/afterschool-souris.png
END:VEVENT
END:VCALENDAR