BEGIN:VCALENDAR
VERSION:2.0
PRODID:-//Fun Time Pottery - ECPv6.15.20//NONSGML v1.0//EN
CALSCALE:GREGORIAN
METHOD:PUBLISH
X-WR-CALNAME:Fun Time Pottery
X-ORIGINAL-URL:https://funtimepottery.net
X-WR-CALDESC:Events for Fun Time Pottery
REFRESH-INTERVAL;VALUE=DURATION:PT1H
X-Robots-Tag:noindex
X-PUBLISHED-TTL:PT1H
BEGIN:VTIMEZONE
TZID:UTC
BEGIN:STANDARD
TZOFFSETFROM:+0000
TZOFFSETTO:+0000
TZNAME:UTC
DTSTART:20230101T000000
END:STANDARD
END:VTIMEZONE
BEGIN:VEVENT
DTSTART;TZID=UTC:20240202T100000
DTEND;TZID=UTC:20240202T113000
DTSTAMP:20260425T115923
CREATED:20240109T142022Z
LAST-MODIFIED:20240109T142027Z
UID:1096-1706868000-1706873400@funtimepottery.net
SUMMARY:Home School Art
DESCRIPTION:A variety of art projects will be covered\, from Canvas to Ceramics and Clay Building. \n\n\n\nRSVP with a deposit to join the fun! \n\n\n\nAges 5+ Welcome \n\n\n\nEvery Friday in February
URL:https://funtimepottery.net/event/home-school-art/
LOCATION:Brandon – Fun Time Pottery\, 535 34th Street\, Brandon\, Canada
ATTACH;FMTTYPE=image/jpeg:https://funtimepottery.net/wp-content/uploads/2024/01/414684794_752709472858854_8911971120386774299_n.jpg
END:VEVENT
BEGIN:VEVENT
DTSTART;TZID=UTC:20240130T153000
DTEND;TZID=UTC:20240130T170000
DTSTAMP:20260425T115923
CREATED:20240109T142943Z
LAST-MODIFIED:20240109T142947Z
UID:1117-1706628600-1706634000@funtimepottery.net
SUMMARY:Souris After School Fun
DESCRIPTION:Fun with different mediums (clay\, ceramic\, canvas\, and glass).
URL:https://funtimepottery.net/event/souris-after-school-fun-3/
LOCATION:Souris – Fun Time Pottery\, 4 Cresent Ave E\, Souris\, Manitoba\, Canada
CATEGORIES:Souris
ATTACH;FMTTYPE=image/jpeg:https://funtimepottery.net/wp-content/uploads/2024/01/414727741_687258113392723_3329426065201917598_n.jpg
END:VEVENT
BEGIN:VEVENT
DTSTART;TZID=UTC:20240123T153000
DTEND;TZID=UTC:20240123T170000
DTSTAMP:20260425T115923
CREATED:20240109T142813Z
LAST-MODIFIED:20240109T142834Z
UID:1114-1706023800-1706029200@funtimepottery.net
SUMMARY:Souris After School Fun
DESCRIPTION:Fun with different mediums (clay\, ceramic\, canvas\, and glass).
URL:https://funtimepottery.net/event/souris-after-school-fun-copy/
LOCATION:Souris – Fun Time Pottery\, 4 Cresent Ave E\, Souris\, Manitoba\, Canada
CATEGORIES:Souris
ATTACH;FMTTYPE=image/jpeg:https://funtimepottery.net/wp-content/uploads/2024/01/414727741_687258113392723_3329426065201917598_n.jpg
END:VEVENT
BEGIN:VEVENT
DTSTART;TZID=UTC:20240119T183000
DTEND;TZID=UTC:20240119T200000
DTSTAMP:20260425T115923
CREATED:20240109T141650Z
LAST-MODIFIED:20240109T141654Z
UID:1093-1705689000-1705694400@funtimepottery.net
SUMMARY:The Scent of Fun
DESCRIPTION:Join us on January 19th to create your own scented melts and paint a candle diffuser.
URL:https://funtimepottery.net/event/the-scent-of-fun/
LOCATION:Brandon – Fun Time Pottery\, 535 34th Street\, Brandon\, Canada
ATTACH;FMTTYPE=image/jpeg:https://funtimepottery.net/wp-content/uploads/2024/01/414611586_743188274387794_2301131633216434797_n.jpg
END:VEVENT
BEGIN:VEVENT
DTSTART;TZID=UTC:20240116T153000
DTEND;TZID=UTC:20240116T170000
DTSTAMP:20260425T115923
CREATED:20240109T142744Z
LAST-MODIFIED:20240109T142900Z
UID:1112-1705419000-1705424400@funtimepottery.net
SUMMARY:Souris After School Fun
DESCRIPTION:Fun with different mediums (clay\, ceramic\, canvas\, and glass).
URL:https://funtimepottery.net/event/souris-after-school-fun-2/
LOCATION:Souris – Fun Time Pottery\, 4 Cresent Ave E\, Souris\, Manitoba\, Canada
CATEGORIES:Souris
ATTACH;FMTTYPE=image/jpeg:https://funtimepottery.net/wp-content/uploads/2024/01/414727741_687258113392723_3329426065201917598_n.jpg
END:VEVENT
BEGIN:VEVENT
DTSTART;TZID=UTC:20240109T153000
DTEND;TZID=UTC:20240109T170000
DTSTAMP:20260425T115923
CREATED:20240109T142554Z
LAST-MODIFIED:20240109T142910Z
UID:1107-1704814200-1704819600@funtimepottery.net
SUMMARY:Souris After School Fun
DESCRIPTION:Fun with different mediums (clay\, ceramic\, canvas\, and glass).
URL:https://funtimepottery.net/event/souris-after-school-fun/
LOCATION:Souris – Fun Time Pottery\, 4 Cresent Ave E\, Souris\, Manitoba\, Canada
CATEGORIES:Souris
ATTACH;FMTTYPE=image/jpeg:https://funtimepottery.net/wp-content/uploads/2024/01/414727741_687258113392723_3329426065201917598_n.jpg
END:VEVENT
END:VCALENDAR