BEGIN:VCALENDAR
VERSION:2.0
PRODID:-//Fun Time Pottery - ECPv6.15.20//NONSGML v1.0//EN
CALSCALE:GREGORIAN
METHOD:PUBLISH
X-WR-CALNAME:Fun Time Pottery
X-ORIGINAL-URL:https://funtimepottery.net
X-WR-CALDESC:Events for Fun Time Pottery
REFRESH-INTERVAL;VALUE=DURATION:PT1H
X-Robots-Tag:noindex
X-PUBLISHED-TTL:PT1H
BEGIN:VTIMEZONE
TZID:UTC
BEGIN:STANDARD
TZOFFSETFROM:+0000
TZOFFSETTO:+0000
TZNAME:UTC
DTSTART:20240101T000000
END:STANDARD
END:VTIMEZONE
BEGIN:VEVENT
DTSTART;TZID=UTC:20260130T090000
DTEND;TZID=UTC:20260130T120000
DTSTAMP:20260423T235622
CREATED:20260109T201030Z
LAST-MODIFIED:20260109T201129Z
UID:1630-1769763600-1769774400@funtimepottery.net
SUMMARY:Schools Out Fun
DESCRIPTION:
URL:https://funtimepottery.net/event/schools-out-fun-8/
END:VEVENT
BEGIN:VEVENT
DTSTART;TZID=UTC:20260129T183000
DTEND;TZID=UTC:20260129T203000
DTSTAMP:20260423T235622
CREATED:20260109T200944Z
LAST-MODIFIED:20260109T200947Z
UID:1628-1769711400-1769718600@funtimepottery.net
SUMMARY:Brushes & Books Event
DESCRIPTION:
URL:https://funtimepottery.net/event/brushes-books-event/
END:VEVENT
BEGIN:VEVENT
DTSTART;TZID=UTC:20260115T160000
DTEND;TZID=UTC:20260115T170000
DTSTAMP:20260423T235622
CREATED:20260109T201324Z
LAST-MODIFIED:20260109T201340Z
UID:1632-1768492800-1768496400@funtimepottery.net
SUMMARY:Kids Intro to Clay Class
DESCRIPTION:
URL:https://funtimepottery.net/event/kids-intro-to-clay-class-2/
END:VEVENT
BEGIN:VEVENT
DTSTART;TZID=UTC:20251002T183000
DTEND;TZID=UTC:20251002T203000
DTSTAMP:20260423T235622
CREATED:20250913T154707Z
LAST-MODIFIED:20250913T154710Z
UID:1619-1759429800-1759437000@funtimepottery.net
SUMMARY:Gilmore Girls Event
DESCRIPTION:
URL:https://funtimepottery.net/event/gilmore-girls-event/
END:VEVENT
BEGIN:VEVENT
DTSTART;TZID=UTC:20250929T090000
DTEND;TZID=UTC:20250929T120000
DTSTAMP:20260423T235622
CREATED:20250913T154550Z
LAST-MODIFIED:20250913T154600Z
UID:1615-1759136400-1759147200@funtimepottery.net
SUMMARY:Schools Out Fun
DESCRIPTION:
URL:https://funtimepottery.net/event/schools-out-fun-7/
END:VEVENT
BEGIN:VEVENT
DTSTART;TZID=UTC:20250926T180000
DTEND;TZID=UTC:20250926T200000
DTSTAMP:20260423T235622
CREATED:20250913T154508Z
LAST-MODIFIED:20250913T154618Z
UID:1613-1758909600-1758916800@funtimepottery.net
SUMMARY:Kids Night - KPOP Demon Hunters
DESCRIPTION:
URL:https://funtimepottery.net/event/kids-night-kpop-demon-hunters/
END:VEVENT
BEGIN:VEVENT
DTSTART;TZID=UTC:20250920T000000
DTEND;TZID=UTC:20250920T235959
DTSTAMP:20260423T235622
CREATED:20250913T154412Z
LAST-MODIFIED:20250913T154416Z
UID:1611-1758326400-1758412799@funtimepottery.net
SUMMARY:Private Events (Open after 12:30 PM)
DESCRIPTION:Private Event in the Morning! \n\n\n\nOpen  to public after 12:30 PM
URL:https://funtimepottery.net/event/private-events-open-after-1230-pm/
END:VEVENT
BEGIN:VEVENT
DTSTART;TZID=UTC:20250919T000000
DTEND;TZID=UTC:20250919T235959
DTSTAMP:20260423T235622
CREATED:20250913T154301Z
LAST-MODIFIED:20250913T154304Z
UID:1609-1758240000-1758326399@funtimepottery.net
SUMMARY:Private Events (Click to View Open Hours)
DESCRIPTION:Open 10:30 AM – 4:00 PM \n\n\n\nClosed 4:00 PM – 6:30 PM \n\n\n\nOpen 6:30 PM – 8:30 PM
URL:https://funtimepottery.net/event/private-events-click-to-view-open-hours/
END:VEVENT
BEGIN:VEVENT
DTSTART;TZID=UTC:20250918T183000
DTEND;TZID=UTC:20250918T203000
DTSTAMP:20260423T235622
CREATED:20250913T154107Z
LAST-MODIFIED:20250913T154109Z
UID:1607-1758220200-1758227400@funtimepottery.net
SUMMARY:Pumpkin Paint Night at the Dock
DESCRIPTION:
URL:https://funtimepottery.net/event/pumpkin-paint-night-at-the-dock/
END:VEVENT
BEGIN:VEVENT
DTSTART;TZID=UTC:20250911T183000
DTEND;TZID=UTC:20250911T203000
DTSTAMP:20260423T235622
CREATED:20250913T154034Z
LAST-MODIFIED:20250913T154038Z
UID:1605-1757615400-1757622600@funtimepottery.net
SUMMARY:Pottery Tattoo Night
DESCRIPTION:
URL:https://funtimepottery.net/event/pottery-tattoo-night/
END:VEVENT
BEGIN:VEVENT
DTSTART;TZID=UTC:20250825T090000
DTEND;TZID=UTC:20250829T120000
DTSTAMP:20260423T235622
CREATED:20250701T145635Z
LAST-MODIFIED:20250701T145638Z
UID:1585-1756112400-1756468800@funtimepottery.net
SUMMARY:Summer Camp
DESCRIPTION:
URL:https://funtimepottery.net/event/summer-camp-9/
END:VEVENT
BEGIN:VEVENT
DTSTART;TZID=UTC:20250818T090000
DTEND;TZID=UTC:20250822T120000
DTSTAMP:20260423T235622
CREATED:20250701T145614Z
LAST-MODIFIED:20250701T145617Z
UID:1583-1755507600-1755864000@funtimepottery.net
SUMMARY:Summer Camp
DESCRIPTION:
URL:https://funtimepottery.net/event/summer-camp-8/
END:VEVENT
BEGIN:VEVENT
DTSTART;TZID=UTC:20250811T090000
DTEND;TZID=UTC:20250815T120000
DTSTAMP:20260423T235622
CREATED:20250701T145550Z
LAST-MODIFIED:20250701T145552Z
UID:1581-1754902800-1755259200@funtimepottery.net
SUMMARY:Summer Camp
DESCRIPTION:
URL:https://funtimepottery.net/event/summer-camp-7/
END:VEVENT
BEGIN:VEVENT
DTSTART;TZID=UTC:20250804T090000
DTEND;TZID=UTC:20250808T120000
DTSTAMP:20260423T235622
CREATED:20250701T145523Z
LAST-MODIFIED:20250701T145526Z
UID:1579-1754298000-1754654400@funtimepottery.net
SUMMARY:Summer Camp
DESCRIPTION:
URL:https://funtimepottery.net/event/summer-camp-6/
END:VEVENT
BEGIN:VEVENT
DTSTART;TZID=UTC:20250731T183000
DTEND;TZID=UTC:20250731T200000
DTSTAMP:20260423T235623
CREATED:20250424T121326Z
LAST-MODIFIED:20250701T141916Z
UID:1550-1753986600-1753992000@funtimepottery.net
SUMMARY:Harry Potter Night
DESCRIPTION:
URL:https://funtimepottery.net/event/highland-cow-clay-bowl-night/
END:VEVENT
BEGIN:VEVENT
DTSTART;TZID=UTC:20250728T090000
DTEND;TZID=UTC:20250801T120000
DTSTAMP:20260423T235623
CREATED:20250701T145501Z
LAST-MODIFIED:20250701T145504Z
UID:1577-1753693200-1754049600@funtimepottery.net
SUMMARY:Summer Camp
DESCRIPTION:
URL:https://funtimepottery.net/event/summer-camp-5/
END:VEVENT
BEGIN:VEVENT
DTSTART;TZID=UTC:20250721T090000
DTEND;TZID=UTC:20250725T120000
DTSTAMP:20260423T235623
CREATED:20250701T143924Z
LAST-MODIFIED:20250701T143925Z
UID:1565-1753088400-1753444800@funtimepottery.net
SUMMARY:Summer Camp
DESCRIPTION:
URL:https://funtimepottery.net/event/summer-camp-4/
END:VEVENT
BEGIN:VEVENT
DTSTART;TZID=UTC:20250714T090000
DTEND;TZID=UTC:20250718T120000
DTSTAMP:20260423T235623
CREATED:20250701T143845Z
LAST-MODIFIED:20250701T143904Z
UID:1562-1752483600-1752840000@funtimepottery.net
SUMMARY:Summer Camp
DESCRIPTION:
URL:https://funtimepottery.net/event/summer-camp-copy/
END:VEVENT
BEGIN:VEVENT
DTSTART;TZID=UTC:20250707T090000
DTEND;TZID=UTC:20250711T120000
DTSTAMP:20260423T235623
CREATED:20250701T143758Z
LAST-MODIFIED:20250701T143801Z
UID:1560-1751878800-1752235200@funtimepottery.net
SUMMARY:Summer Camp
DESCRIPTION:
URL:https://funtimepottery.net/event/summer-camp-3/
END:VEVENT
BEGIN:VEVENT
DTSTART;TZID=UTC:20250630T103000
DTEND;TZID=UTC:20250630T173000
DTSTAMP:20260423T235623
CREATED:20250328T192413Z
LAST-MODIFIED:20250701T142025Z
UID:1536-1751279400-1751304600@funtimepottery.net
SUMMARY:OPEN
DESCRIPTION:
URL:https://funtimepottery.net/event/closed-for-good-friday/
END:VEVENT
BEGIN:VEVENT
DTSTART;TZID=UTC:20250420T000000
DTEND;TZID=UTC:20250420T235959
DTSTAMP:20260423T235623
CREATED:20250328T192513Z
LAST-MODIFIED:20250701T141951Z
UID:1538-1745107200-1745193599@funtimepottery.net
SUMMARY:Closed - Happy Canada Day!
DESCRIPTION:
URL:https://funtimepottery.net/event/closed-for-easter/
END:VEVENT
BEGIN:VEVENT
DTSTART;TZID=UTC:20250417T090000
DTEND;TZID=UTC:20250417T120000
DTSTAMP:20260423T235623
CREATED:20250328T192334Z
LAST-MODIFIED:20250328T192337Z
UID:1534-1744880400-1744891200@funtimepottery.net
SUMMARY:School's Out Fun
DESCRIPTION:
URL:https://funtimepottery.net/event/schools-out-fun-6/
END:VEVENT
BEGIN:VEVENT
DTSTART;TZID=UTC:20250404T090000
DTEND;TZID=UTC:20250404T120000
DTSTAMP:20260423T235623
CREATED:20250328T192302Z
LAST-MODIFIED:20250328T192305Z
UID:1532-1743757200-1743768000@funtimepottery.net
SUMMARY:Spring Break Camp
DESCRIPTION:
URL:https://funtimepottery.net/event/spring-break-camp-4/
END:VEVENT
BEGIN:VEVENT
DTSTART;TZID=UTC:20250403T090000
DTEND;TZID=UTC:20250403T120000
DTSTAMP:20260423T235623
CREATED:20250328T192234Z
LAST-MODIFIED:20250328T192238Z
UID:1530-1743670800-1743681600@funtimepottery.net
SUMMARY:Spring Break Camp
DESCRIPTION:
URL:https://funtimepottery.net/event/spring-break-camp-3/
END:VEVENT
BEGIN:VEVENT
DTSTART;TZID=UTC:20250402T090000
DTEND;TZID=UTC:20250402T120000
DTSTAMP:20260423T235623
CREATED:20250328T192202Z
LAST-MODIFIED:20250328T192206Z
UID:1528-1743584400-1743595200@funtimepottery.net
SUMMARY:Spring Break Camp
DESCRIPTION:
URL:https://funtimepottery.net/event/spring-break-camp-2/
END:VEVENT
BEGIN:VEVENT
DTSTART;TZID=UTC:20250401T090000
DTEND;TZID=UTC:20250401T120000
DTSTAMP:20260423T235623
CREATED:20250328T192118Z
LAST-MODIFIED:20250328T192123Z
UID:1526-1743498000-1743508800@funtimepottery.net
SUMMARY:Spring Break Camp
DESCRIPTION:
URL:https://funtimepottery.net/event/spring-break-camp/
END:VEVENT
BEGIN:VEVENT
DTSTART;TZID=UTC:20250324T000000
DTEND;TZID=UTC:20250324T235959
DTSTAMP:20260423T235623
CREATED:20250303T224845Z
LAST-MODIFIED:20250303T224848Z
UID:1522-1742774400-1742860799@funtimepottery.net
SUMMARY:Closed
DESCRIPTION:
URL:https://funtimepottery.net/event/closed-8/
END:VEVENT
BEGIN:VEVENT
DTSTART;TZID=UTC:20250321T180000
DTEND;TZID=UTC:20250321T200000
DTSTAMP:20260423T235623
CREATED:20250307T121828Z
LAST-MODIFIED:20250307T121832Z
UID:1524-1742580000-1742587200@funtimepottery.net
SUMMARY:F.R.I.E.N.D.S. Night!
DESCRIPTION:The one where you paint pottery!
URL:https://funtimepottery.net/event/f-r-i-e-n-d-s-night/
END:VEVENT
BEGIN:VEVENT
DTSTART;TZID=UTC:20250321T100000
DTEND;TZID=UTC:20250321T113000
DTSTAMP:20260423T235623
CREATED:20250303T224648Z
LAST-MODIFIED:20250303T224652Z
UID:1514-1742551200-1742556600@funtimepottery.net
SUMMARY:Home School Art
DESCRIPTION:
URL:https://funtimepottery.net/event/home-school-art-14/
END:VEVENT
BEGIN:VEVENT
DTSTART;TZID=UTC:20250317T000000
DTEND;TZID=UTC:20250317T235959
DTSTAMP:20260423T235623
CREATED:20250303T224822Z
LAST-MODIFIED:20250303T224823Z
UID:1520-1742169600-1742255999@funtimepottery.net
SUMMARY:Closed
DESCRIPTION:
URL:https://funtimepottery.net/event/closed-7/
END:VEVENT
END:VCALENDAR