BEGIN:VCALENDAR
VERSION:2.0
PRODID:-//Fun Time Pottery - ECPv6.15.20//NONSGML v1.0//EN
CALSCALE:GREGORIAN
METHOD:PUBLISH
X-ORIGINAL-URL:https://funtimepottery.net
X-WR-CALDESC:Events for Fun Time Pottery
REFRESH-INTERVAL;VALUE=DURATION:PT1H
X-Robots-Tag:noindex
X-PUBLISHED-TTL:PT1H
BEGIN:VTIMEZONE
TZID:UTC
BEGIN:STANDARD
TZOFFSETFROM:+0000
TZOFFSETTO:+0000
TZNAME:UTC
DTSTART:20250101T000000
END:STANDARD
END:VTIMEZONE
BEGIN:VEVENT
DTSTART;TZID=UTC:20260218T100000
DTEND;TZID=UTC:20260218T110000
DTSTAMP:20260423T202904
CREATED:20260213T015903Z
LAST-MODIFIED:20260213T020132Z
UID:1652-1771408800-1771412400@funtimepottery.net
SUMMARY:Storytime for Preschoolers
DESCRIPTION:The Artist Who painted a Blue Horse. Snack included
URL:https://funtimepottery.net/event/i-love-to-read/
END:VEVENT
END:VCALENDAR