BEGIN:VCALENDAR
VERSION:2.0
PRODID:-//Fun Time Pottery - ECPv6.15.20//NONSGML v1.0//EN
CALSCALE:GREGORIAN
METHOD:PUBLISH
X-ORIGINAL-URL:https://funtimepottery.net
X-WR-CALDESC:Events for Fun Time Pottery
REFRESH-INTERVAL;VALUE=DURATION:PT1H
X-Robots-Tag:noindex
X-PUBLISHED-TTL:PT1H
BEGIN:VTIMEZONE
TZID:UTC
BEGIN:STANDARD
TZOFFSETFROM:+0000
TZOFFSETTO:+0000
TZNAME:UTC
DTSTART:20240101T000000
END:STANDARD
END:VTIMEZONE
BEGIN:VEVENT
DTSTART;TZID=UTC:20251002T183000
DTEND;TZID=UTC:20251002T203000
DTSTAMP:20260424T034148
CREATED:20250913T154707Z
LAST-MODIFIED:20250913T154710Z
UID:1619-1759429800-1759437000@funtimepottery.net
SUMMARY:Gilmore Girls Event
DESCRIPTION:
URL:https://funtimepottery.net/event/gilmore-girls-event/
END:VEVENT
END:VCALENDAR