BEGIN:VCALENDAR
VERSION:2.0
PRODID:-//Fun Time Pottery - ECPv6.15.20//NONSGML v1.0//EN
CALSCALE:GREGORIAN
METHOD:PUBLISH
X-ORIGINAL-URL:https://funtimepottery.net
X-WR-CALDESC:Events for Fun Time Pottery
REFRESH-INTERVAL;VALUE=DURATION:PT1H
X-Robots-Tag:noindex
X-PUBLISHED-TTL:PT1H
BEGIN:VTIMEZONE
TZID:UTC
BEGIN:STANDARD
TZOFFSETFROM:+0000
TZOFFSETTO:+0000
TZNAME:UTC
DTSTART:20240101T000000
END:STANDARD
END:VTIMEZONE
BEGIN:VEVENT
DTSTART;TZID=UTC:20250919T000000
DTEND;TZID=UTC:20250919T235959
DTSTAMP:20260424T053952
CREATED:20250913T154301Z
LAST-MODIFIED:20250913T154304Z
UID:1609-1758240000-1758326399@funtimepottery.net
SUMMARY:Private Events (Click to View Open Hours)
DESCRIPTION:Open 10:30 AM – 4:00 PM \n\n\n\nClosed 4:00 PM – 6:30 PM \n\n\n\nOpen 6:30 PM – 8:30 PM
URL:https://funtimepottery.net/event/private-events-click-to-view-open-hours/
END:VEVENT
END:VCALENDAR