BEGIN:VCALENDAR
VERSION:2.0
PRODID:-//Fun Time Pottery - ECPv6.15.20//NONSGML v1.0//EN
CALSCALE:GREGORIAN
METHOD:PUBLISH
X-ORIGINAL-URL:https://funtimepottery.net
X-WR-CALDESC:Events for Fun Time Pottery
REFRESH-INTERVAL;VALUE=DURATION:PT1H
X-Robots-Tag:noindex
X-PUBLISHED-TTL:PT1H
BEGIN:VTIMEZONE
TZID:UTC
BEGIN:STANDARD
TZOFFSETFROM:+0000
TZOFFSETTO:+0000
TZNAME:UTC
DTSTART:20240101T000000
END:STANDARD
END:VTIMEZONE
BEGIN:VEVENT
DTSTART;TZID=UTC:20250404T090000
DTEND;TZID=UTC:20250404T120000
DTSTAMP:20260424T200306
CREATED:20250328T192302Z
LAST-MODIFIED:20250328T192305Z
UID:1532-1743757200-1743768000@funtimepottery.net
SUMMARY:Spring Break Camp
DESCRIPTION:
URL:https://funtimepottery.net/event/spring-break-camp-4/
END:VEVENT
END:VCALENDAR