BEGIN:VCALENDAR
VERSION:2.0
PRODID:-//Fun Time Pottery - ECPv6.15.20//NONSGML v1.0//EN
CALSCALE:GREGORIAN
METHOD:PUBLISH
X-ORIGINAL-URL:https://funtimepottery.net
X-WR-CALDESC:Events for Fun Time Pottery
REFRESH-INTERVAL;VALUE=DURATION:PT1H
X-Robots-Tag:noindex
X-PUBLISHED-TTL:PT1H
BEGIN:VTIMEZONE
TZID:UTC
BEGIN:STANDARD
TZOFFSETFROM:+0000
TZOFFSETTO:+0000
TZNAME:UTC
DTSTART:20240101T000000
END:STANDARD
END:VTIMEZONE
BEGIN:VEVENT
DTSTART;TZID=UTC:20250211T000000
DTEND;TZID=UTC:20250211T235959
DTSTAMP:20260425T000138
CREATED:20250113T194142Z
LAST-MODIFIED:20250113T194145Z
UID:1496-1739232000-1739318399@funtimepottery.net
SUMMARY:Two for One Studio Fees
DESCRIPTION:2 for 1 Studio Fees
URL:https://funtimepottery.net/event/two-for-one-studio-fees-2/
END:VEVENT
END:VCALENDAR