BEGIN:VCALENDAR
VERSION:2.0
PRODID:-//Fun Time Pottery - ECPv6.15.20//NONSGML v1.0//EN
CALSCALE:GREGORIAN
METHOD:PUBLISH
X-ORIGINAL-URL:https://funtimepottery.net
X-WR-CALDESC:Events for Fun Time Pottery
REFRESH-INTERVAL;VALUE=DURATION:PT1H
X-Robots-Tag:noindex
X-PUBLISHED-TTL:PT1H
BEGIN:VTIMEZONE
TZID:UTC
BEGIN:STANDARD
TZOFFSETFROM:+0000
TZOFFSETTO:+0000
TZNAME:UTC
DTSTART:20230101T000000
END:STANDARD
END:VTIMEZONE
BEGIN:VEVENT
DTSTART;TZID=UTC:20240331T000000
DTEND;TZID=UTC:20240331T235959
DTSTAMP:20260425T204722
CREATED:20240305T143232Z
LAST-MODIFIED:20240308T134253Z
UID:1156-1711843200-1711929599@funtimepottery.net
SUMMARY:Closed March 31
DESCRIPTION:Happy Easter!
URL:https://funtimepottery.net/event/closed-march-31/
LOCATION:Brandon – Fun Time Pottery\, 535 34th Street\, Brandon\, Canada
ATTACH;FMTTYPE=image/jpeg:https://funtimepottery.net/wp-content/uploads/2024/03/happy-easter-bunny.jpg
END:VEVENT
END:VCALENDAR