BEGIN:VCALENDAR
VERSION:2.0
PRODID:-//Fun Time Pottery - ECPv6.15.20//NONSGML v1.0//EN
CALSCALE:GREGORIAN
METHOD:PUBLISH
X-ORIGINAL-URL:https://funtimepottery.net
X-WR-CALDESC:Events for Fun Time Pottery
REFRESH-INTERVAL;VALUE=DURATION:PT1H
X-Robots-Tag:noindex
X-PUBLISHED-TTL:PT1H
BEGIN:VTIMEZONE
TZID:UTC
BEGIN:STANDARD
TZOFFSETFROM:+0000
TZOFFSETTO:+0000
TZNAME:UTC
DTSTART:20230101T000000
END:STANDARD
END:VTIMEZONE
BEGIN:VEVENT
DTSTART;TZID=UTC:20240325T000000
DTEND;TZID=UTC:20240328T235959
DTSTAMP:20260425T204722
CREATED:20240308T133311Z
LAST-MODIFIED:20240308T133454Z
UID:1214-1711324800-1711670399@funtimepottery.net
SUMMARY:Walk-ins Welcome after 10:30 AM
DESCRIPTION:Walk-ins Welcome on Camp Days after 10:30 AM \n\n\n\n📅 Camp Dates: Monday\, March 25th to Thursday\, March 28th (Daily Sessions 9 am to 12 pm – Walkins Welcome after 10:30 am)
URL:https://funtimepottery.net/event/walk-ins-welcome/
LOCATION:Brandon – Fun Time Pottery\, 535 34th Street\, Brandon\, Canada
ATTACH;FMTTYPE=image/jpeg:https://funtimepottery.net/wp-content/uploads/2023/06/330291119_532993205640747_8887084304263665588_n.jpg
END:VEVENT
BEGIN:VEVENT
DTSTART;TZID=UTC:20240325T090000
DTEND;TZID=UTC:20240328T120000
DTSTAMP:20260425T204722
CREATED:20240305T143031Z
LAST-MODIFIED:20240308T133052Z
UID:1154-1711357200-1711627200@funtimepottery.net
SUMMARY:Spring Break Camp
DESCRIPTION:Welcome to Fun Time Pottery’s Spring Break Camp in Brandon! 🌸 Ignite your child’s creativity with our engaging and vibrant artistic experience. Our Spring Break Camp is the perfect blend of artistic exploration and fun for kids in Brandon\, Manitoba. \n\n\n\n📅 Camp Dates: Monday\, March 25th to Thursday\, March 28th (Daily Sessions 9 am to 12 pm – Walkins Welcome after 10:30 am) \n\n\n\n🎨 What to Expect: Explore a world of colours and imagination as your child dives into the exciting realm of ceramics\, clay\, canvas painting\, and fabric mosaics. Our expert instructors will guide them through creating unique masterpieces\, fostering creativity\, and building lasting memories. \n\n\n\n🌈 Highlights: \n\n\n\n\nDaily hands-on art projects\n\n\n\nA supportive and encouraging environment for all skill levels\n\n\n\n\n🎉 Why Fun Time Pottery? Our Spring Break Camp is designed to provide a safe\, enjoyable\, and educational experience for kids during the school break. At Fun Time Pottery\, we believe in the power of creativity to inspire and uplift young minds. \n\n\n\n🌟 Reserve Your Spot: Spaces are limited\, so secure your child’s spot in our Spring Break Camp in Brandon today! Contact us at 204-728-4659 or visit our studio at 535 34th Street (Brandon\, MB) to register. \n\n\n\nMake this Spring Break a memorable and colourful adventure for your child at Fun Time Pottery’s Spring Break Camp in Brandon. Let the creativity flow! 🌈🖌️
URL:https://funtimepottery.net/event/spring-break-camp-in-brandon/
LOCATION:Brandon – Fun Time Pottery\, 535 34th Street\, Brandon\, Canada
ATTACH;FMTTYPE=image/png:https://funtimepottery.net/wp-content/uploads/2024/03/Spring-Break-Poster-2024.png
END:VEVENT
END:VCALENDAR