BEGIN:VCALENDAR
VERSION:2.0
PRODID:-//Fun Time Pottery - ECPv6.15.20//NONSGML v1.0//EN
CALSCALE:GREGORIAN
METHOD:PUBLISH
X-WR-CALNAME:Fun Time Pottery
X-ORIGINAL-URL:https://funtimepottery.net
X-WR-CALDESC:Events for Fun Time Pottery
REFRESH-INTERVAL;VALUE=DURATION:PT1H
X-Robots-Tag:noindex
X-PUBLISHED-TTL:PT1H
BEGIN:VTIMEZONE
TZID:UTC
BEGIN:STANDARD
TZOFFSETFROM:+0000
TZOFFSETTO:+0000
TZNAME:UTC
DTSTART:20230101T000000
END:STANDARD
END:VTIMEZONE
BEGIN:VEVENT
DTSTART;TZID=UTC:20240315T090000
DTEND;TZID=UTC:20240315T120000
DTSTAMP:20260425T204644
CREATED:20240305T142926Z
LAST-MODIFIED:20240305T143316Z
UID:1151-1710493200-1710504000@funtimepottery.net
SUMMARY:School's Out Fun March 15
DESCRIPTION:A variety of art projects will be covered\, from Canvas to Ceramics and Clay Building. \n\n\n\nRSVP with a deposit to join the fun!
URL:https://funtimepottery.net/event/schools-out-fun-march-15/
LOCATION:Brandon – Fun Time Pottery\, 535 34th Street\, Brandon\, Canada
ATTACH;FMTTYPE=image/jpeg:https://funtimepottery.net/wp-content/uploads/2022/09/pexels-artem-podrez-6941461-scaled.jpg
END:VEVENT
BEGIN:VEVENT
DTSTART;TZID=UTC:20240315T183000
DTEND;TZID=UTC:20240315T200000
DTSTAMP:20260425T204644
CREATED:20240308T134324Z
LAST-MODIFIED:20240308T134327Z
UID:1224-1710527400-1710532800@funtimepottery.net
SUMMARY:Cookie & Plate Decorating Class
DESCRIPTION:Join us for Cookie and Plate Decorating! \n\n\n\nRSVP with a deposit to join the fun!
URL:https://funtimepottery.net/event/cookie-plate-decorating-class/
LOCATION:Brandon – Fun Time Pottery\, 535 34th Street\, Brandon\, Canada
ATTACH;FMTTYPE=image/jpeg:https://funtimepottery.net/wp-content/uploads/2022/09/pexels-artem-podrez-6941461-scaled.jpg
END:VEVENT
END:VCALENDAR