BEGIN:VCALENDAR
VERSION:2.0
PRODID:-//Fun Time Pottery - ECPv6.15.20//NONSGML v1.0//EN
CALSCALE:GREGORIAN
METHOD:PUBLISH
X-WR-CALNAME:Fun Time Pottery
X-ORIGINAL-URL:https://funtimepottery.net
X-WR-CALDESC:Events for Fun Time Pottery
REFRESH-INTERVAL;VALUE=DURATION:PT1H
X-Robots-Tag:noindex
X-PUBLISHED-TTL:PT1H
BEGIN:VTIMEZONE
TZID:UTC
BEGIN:STANDARD
TZOFFSETFROM:+0000
TZOFFSETTO:+0000
TZNAME:UTC
DTSTART:20230101T000000
END:STANDARD
END:VTIMEZONE
BEGIN:VEVENT
DTSTART;TZID=UTC:20240209T100000
DTEND;TZID=UTC:20240209T113000
DTSTAMP:20260425T223307
CREATED:20240109T142110Z
LAST-MODIFIED:20240109T142113Z
UID:1101-1707472800-1707478200@funtimepottery.net
SUMMARY:Home School Art
DESCRIPTION:A variety of art projects will be covered\, from Canvas to Ceramics and Clay Building. \n\n\n\nRSVP with a deposit to join the fun! \n\n\n\nAges 5+ Welcome \n\n\n\nEvery Friday in February
URL:https://funtimepottery.net/event/home-school-art-2/
LOCATION:Brandon – Fun Time Pottery\, 535 34th Street\, Brandon\, Canada
ATTACH;FMTTYPE=image/jpeg:https://funtimepottery.net/wp-content/uploads/2024/01/414684794_752709472858854_8911971120386774299_n.jpg
END:VEVENT
END:VCALENDAR